BEGIN:VCALENDAR
VERSION:2.0
PRODID:-//Clare Sports - ECPv6.15.11//NONSGML v1.0//EN
CALSCALE:GREGORIAN
METHOD:PUBLISH
X-WR-CALNAME:Clare Sports
X-ORIGINAL-URL:https://claresports.ie
X-WR-CALDESC:Events for Clare Sports
REFRESH-INTERVAL;VALUE=DURATION:PT1H
X-Robots-Tag:noindex
X-PUBLISHED-TTL:PT1H
BEGIN:VTIMEZONE
TZID:Europe/London
BEGIN:DAYLIGHT
TZOFFSETFROM:+0000
TZOFFSETTO:+0100
TZNAME:BST
DTSTART:20240331T010000
END:DAYLIGHT
BEGIN:STANDARD
TZOFFSETFROM:+0100
TZOFFSETTO:+0000
TZNAME:GMT
DTSTART:20241027T010000
END:STANDARD
BEGIN:DAYLIGHT
TZOFFSETFROM:+0000
TZOFFSETTO:+0100
TZNAME:BST
DTSTART:20250330T010000
END:DAYLIGHT
BEGIN:STANDARD
TZOFFSETFROM:+0100
TZOFFSETTO:+0000
TZNAME:GMT
DTSTART:20251026T010000
END:STANDARD
BEGIN:DAYLIGHT
TZOFFSETFROM:+0000
TZOFFSETTO:+0100
TZNAME:BST
DTSTART:20260329T010000
END:DAYLIGHT
BEGIN:STANDARD
TZOFFSETFROM:+0100
TZOFFSETTO:+0000
TZNAME:GMT
DTSTART:20261025T010000
END:STANDARD
END:VTIMEZONE
BEGIN:VEVENT
DTSTART;TZID=Europe/London:20250304T180000
DTEND;TZID=Europe/London:20250304T210000
DTSTAMP:20260420T040345
CREATED:20241126T105254Z
LAST-MODIFIED:20250206T120916Z
UID:19319-1741111200-1741122000@claresports.ie
SUMMARY:Safeguarding 2 - March 4th
DESCRIPTION:A person appointed to the Club Children’s Officer position in a club must have completed Safeguarding 1 (Child Welfare & Protection Basic Awareness workshop) and should complete this Club Children’s Officer 3-hour workshop. \nClub Children’s Officers should be child centred and have as the primary aim the establishment of a child centred ethos within the club. They are the link between the children and adults in the club. \nThis course will help the Club Children’s Officer to carry out the function of their role in the club and support the implementation of best practice in the club. Participants will also receive a Club Children’s Officer Action Planning document as part of the training. \n**PLEASE NOTE** The Zoom link will be sent to you on the day of the course.
URL:https://claresports.ie/event/safeguarding-2-march-4th/
LOCATION:Zoom
CATEGORIES:Safeguarding2
ATTACH;FMTTYPE=image/jpeg:https://claresports.ie/wp-content/uploads/2024/07/sport-ireland-ethics-logo-300x165-1.jpg
ORGANIZER;CN="Mary Taylor":MAILTO:mary@claresports.ie
END:VEVENT
END:VCALENDAR