BEGIN:VCALENDAR
VERSION:2.0
PRODID:-//Clare Sports - ECPv6.15.11//NONSGML v1.0//EN
CALSCALE:GREGORIAN
METHOD:PUBLISH
X-WR-CALNAME:Clare Sports
X-ORIGINAL-URL:https://claresports.ie
X-WR-CALDESC:Events for Clare Sports
REFRESH-INTERVAL;VALUE=DURATION:PT1H
X-Robots-Tag:noindex
X-PUBLISHED-TTL:PT1H
BEGIN:VTIMEZONE
TZID:Europe/London
BEGIN:DAYLIGHT
TZOFFSETFROM:+0000
TZOFFSETTO:+0100
TZNAME:BST
DTSTART:20220327T010000
END:DAYLIGHT
BEGIN:STANDARD
TZOFFSETFROM:+0100
TZOFFSETTO:+0000
TZNAME:GMT
DTSTART:20221030T010000
END:STANDARD
BEGIN:DAYLIGHT
TZOFFSETFROM:+0000
TZOFFSETTO:+0100
TZNAME:BST
DTSTART:20230326T010000
END:DAYLIGHT
BEGIN:STANDARD
TZOFFSETFROM:+0100
TZOFFSETTO:+0000
TZNAME:GMT
DTSTART:20231029T010000
END:STANDARD
BEGIN:DAYLIGHT
TZOFFSETFROM:+0000
TZOFFSETTO:+0100
TZNAME:BST
DTSTART:20240331T010000
END:DAYLIGHT
BEGIN:STANDARD
TZOFFSETFROM:+0100
TZOFFSETTO:+0000
TZNAME:GMT
DTSTART:20241027T010000
END:STANDARD
END:VTIMEZONE
BEGIN:VEVENT
DTSTART;TZID=Europe/London:20230201T060000
DTEND;TZID=Europe/London:20230302T210000
DTSTAMP:20260421T122855
CREATED:20230130T112722Z
LAST-MODIFIED:20230130T122341Z
UID:6165-1675231200-1677790800@claresports.ie
SUMMARY:The Banner Marathon
DESCRIPTION:Our annual Banner marathon is taking place earlier this year to help people that have given up on their fitness goals for 2023. \nWe have distances to suit all abilities\, from the 1/2 marathon (21.1km) to the extreme three marathons (126.6km). \nYou have 30 days to achieve your goal and receive a finisher medal. \nSign up with a friend or family member (at home or abroad) or even the dog is an option. \nSelect your parish and lets see which parish is most active in Clare \n 
URL:https://claresports.ie/event/the-banner-marathon/
ATTACH;FMTTYPE=image/jpeg:https://claresports.ie/wp-content/uploads/2023/01/The-Banner-Marathon-.jpg
END:VEVENT
END:VCALENDAR