BEGIN:VCALENDAR
VERSION:2.0
PRODID:-//Clare Sports - ECPv6.15.11//NONSGML v1.0//EN
CALSCALE:GREGORIAN
METHOD:PUBLISH
X-ORIGINAL-URL:https://claresports.ie
X-WR-CALDESC:Events for Clare Sports
REFRESH-INTERVAL;VALUE=DURATION:PT1H
X-Robots-Tag:noindex
X-PUBLISHED-TTL:PT1H
BEGIN:VTIMEZONE
TZID:Europe/London
BEGIN:DAYLIGHT
TZOFFSETFROM:+0000
TZOFFSETTO:+0100
TZNAME:BST
DTSTART:20220327T010000
END:DAYLIGHT
BEGIN:STANDARD
TZOFFSETFROM:+0100
TZOFFSETTO:+0000
TZNAME:GMT
DTSTART:20221030T010000
END:STANDARD
BEGIN:DAYLIGHT
TZOFFSETFROM:+0000
TZOFFSETTO:+0100
TZNAME:BST
DTSTART:20230326T010000
END:DAYLIGHT
BEGIN:STANDARD
TZOFFSETFROM:+0100
TZOFFSETTO:+0000
TZNAME:GMT
DTSTART:20231029T010000
END:STANDARD
BEGIN:DAYLIGHT
TZOFFSETFROM:+0000
TZOFFSETTO:+0100
TZNAME:BST
DTSTART:20240331T010000
END:DAYLIGHT
BEGIN:STANDARD
TZOFFSETFROM:+0100
TZOFFSETTO:+0000
TZNAME:GMT
DTSTART:20241027T010000
END:STANDARD
END:VTIMEZONE
BEGIN:VEVENT
DTSTART;TZID=Europe/London:20230301T080000
DTEND;TZID=Europe/London:20230326T170000
DTSTAMP:20260420T182542
CREATED:20230223T120340Z
LAST-MODIFIED:20230322T115057Z
UID:6565-1677657600-1679850000@claresports.ie
SUMMARY:Couch to 2 K
DESCRIPTION:Hello and welcome to our Couch to 2K programme. \nThis four-week programme will consist of 2 coached sessions each week\, delivered as an easy-to-follow podcast for each session. \nThis interval training will consist of walking and jogging; we will get you to achieve your goal of running 2km nonstop after four weeks. \nAll sessions can be completed in your own time and your own area. \nJoin today with a friend or on your own. It could be the best decision you make this year
URL:https://claresports.ie/event/couch-to-2-k/
ATTACH;FMTTYPE=image/png:https://claresports.ie/wp-content/uploads/2023/02/5K-Run-Walk-Flyer.png
ORGANIZER;CN="Pat Sexton":MAILTO:pat@claresports.ie
END:VEVENT
BEGIN:VEVENT
DTSTART;TZID=Europe/London:20230314T190000
DTEND;TZID=Europe/London:20230314T203000
DTSTAMP:20260420T182542
CREATED:20230228T113234Z
LAST-MODIFIED:20230314T121425Z
UID:6772-1678820400-1678825800@claresports.ie
SUMMARY:Sports Nutrition for Coaches of Young Athletes
DESCRIPTION:Join us for an informative and engaging sports nutrition event designed specifically for sports coaches of young athletes. As a coach\, you play a critical role in the development of your athletes’ nutrition habits and overall health\, and this event will provide you with the tools and knowledge you need to help your athletes perform at their best. \nLed by our fantastic speaker Molly Sullivan\, this event will cover a range of topics including the role of nutrition in athlete performance\, strategies for fueling young athletes\, and tips for navigating dietary restrictions. You’ll also have the opportunity to network with other coaches\, share best practices\, and gain valuable insights from your peers. \nWhether you’re a seasoned coach or just starting out\, this event is a must-attend for anyone looking to improve the health and performance of their young athletes through proper nutrition. Register today to secure your spot and take the first step towards becoming a nutrition-savvy coach.
URL:https://claresports.ie/event/sports-nutrition/
LOCATION:Clare Education Centre\, Government Buildings\, Kilrush Road\, Ennis\, Ennis\, County Clare\, V95 F782\, Ireland
CATEGORIES:Education & Traning,Stronger Clubs
ATTACH;FMTTYPE=image/jpeg:https://claresports.ie/wp-content/uploads/2023/02/Sports-Nutrition.jpg
ORGANIZER;CN="Jessica O'Keeffe":MAILTO:jess@claresports.ie
END:VEVENT
END:VCALENDAR