BEGIN:VCALENDAR
VERSION:2.0
PRODID:-//Clare Sports - ECPv6.15.11//NONSGML v1.0//EN
CALSCALE:GREGORIAN
METHOD:PUBLISH
X-WR-CALNAME:Clare Sports
X-ORIGINAL-URL:https://claresports.ie
X-WR-CALDESC:Events for Clare Sports
REFRESH-INTERVAL;VALUE=DURATION:PT1H
X-Robots-Tag:noindex
X-PUBLISHED-TTL:PT1H
BEGIN:VTIMEZONE
TZID:Europe/London
BEGIN:DAYLIGHT
TZOFFSETFROM:+0000
TZOFFSETTO:+0100
TZNAME:BST
DTSTART:20220327T010000
END:DAYLIGHT
BEGIN:STANDARD
TZOFFSETFROM:+0100
TZOFFSETTO:+0000
TZNAME:GMT
DTSTART:20221030T010000
END:STANDARD
BEGIN:DAYLIGHT
TZOFFSETFROM:+0000
TZOFFSETTO:+0100
TZNAME:BST
DTSTART:20230326T010000
END:DAYLIGHT
BEGIN:STANDARD
TZOFFSETFROM:+0100
TZOFFSETTO:+0000
TZNAME:GMT
DTSTART:20231029T010000
END:STANDARD
BEGIN:DAYLIGHT
TZOFFSETFROM:+0000
TZOFFSETTO:+0100
TZNAME:BST
DTSTART:20240331T010000
END:DAYLIGHT
BEGIN:STANDARD
TZOFFSETFROM:+0100
TZOFFSETTO:+0000
TZNAME:GMT
DTSTART:20241027T010000
END:STANDARD
END:VTIMEZONE
BEGIN:VEVENT
DTSTART;TZID=Europe/London:20230515T180000
DTEND;TZID=Europe/London:20230515T193000
DTSTAMP:20260421T084112
CREATED:20230503T135914Z
LAST-MODIFIED:20230509T103247Z
UID:7522-1684173600-1684179000@claresports.ie
SUMMARY:Reintroduction Session
DESCRIPTION:Open to females aged 18\, if you wish to do a 90-minute refresher on bike skills\, followed by a short cycle on the road.
URL:https://claresports.ie/event/reintroduction-session/
LOCATION:Clare Education Centre\, Government Buildings\, Kilrush Road\, Ennis\, Ennis\, County Clare\, V95 F782\, Ireland
ATTACH;FMTTYPE=image/png:https://claresports.ie/wp-content/uploads/2023/05/Reintorduction-pic.png
ORGANIZER;CN="Pat Sexton":MAILTO:pat@claresports.ie
END:VEVENT
BEGIN:VEVENT
DTSTART;TZID=Europe/London:20230516T100000
DTEND;TZID=Europe/London:20230517T113000
DTSTAMP:20260421T084112
CREATED:20230503T141325Z
LAST-MODIFIED:20230510T132351Z
UID:7526-1684231200-1684323000@claresports.ie
SUMMARY:Learn to Cycle
DESCRIPTION:Would you like to know the basics of cycling? Cover all bike skills and increase your ability and confidence in your cycling technique. Please bring your bike and helmet for this free workshop. \n  \nRunning on Tuesday and Wednesday mornings from 10am until 11.30am from our offices in Clare Education Centre\, Kilrush Road\, Ennis. \n  \n  \n  \n  \n  \n 
URL:https://claresports.ie/event/learn-to-cycle/
LOCATION:Clare Education Centre\, Government Buildings\, Kilrush Road\, Ennis\, Ennis\, County Clare\, V95 F782\, Ireland
ATTACH;FMTTYPE=image/png:https://claresports.ie/wp-content/uploads/2023/05/Learn-to-cycle.png
ORGANIZER;CN="Pat Sexton":MAILTO:pat@claresports.ie
END:VEVENT
END:VCALENDAR