BEGIN:VCALENDAR
VERSION:2.0
PRODID:-//Clare Sports - ECPv6.15.11//NONSGML v1.0//EN
CALSCALE:GREGORIAN
METHOD:PUBLISH
X-WR-CALNAME:Clare Sports
X-ORIGINAL-URL:https://claresports.ie
X-WR-CALDESC:Events for Clare Sports
REFRESH-INTERVAL;VALUE=DURATION:PT1H
X-Robots-Tag:noindex
X-PUBLISHED-TTL:PT1H
BEGIN:VTIMEZONE
TZID:Europe/London
BEGIN:DAYLIGHT
TZOFFSETFROM:+0000
TZOFFSETTO:+0100
TZNAME:BST
DTSTART:20220327T010000
END:DAYLIGHT
BEGIN:STANDARD
TZOFFSETFROM:+0100
TZOFFSETTO:+0000
TZNAME:GMT
DTSTART:20221030T010000
END:STANDARD
BEGIN:DAYLIGHT
TZOFFSETFROM:+0000
TZOFFSETTO:+0100
TZNAME:BST
DTSTART:20230326T010000
END:DAYLIGHT
BEGIN:STANDARD
TZOFFSETFROM:+0100
TZOFFSETTO:+0000
TZNAME:GMT
DTSTART:20231029T010000
END:STANDARD
BEGIN:DAYLIGHT
TZOFFSETFROM:+0000
TZOFFSETTO:+0100
TZNAME:BST
DTSTART:20240331T010000
END:DAYLIGHT
BEGIN:STANDARD
TZOFFSETFROM:+0100
TZOFFSETTO:+0000
TZNAME:GMT
DTSTART:20241027T010000
END:STANDARD
END:VTIMEZONE
BEGIN:VEVENT
DTSTART;TZID=Europe/London:20230518T183000
DTEND;TZID=Europe/London:20230518T200000
DTSTAMP:20260419T233538
CREATED:20230503T154854Z
LAST-MODIFIED:20230510T132834Z
UID:7545-1684434600-1684440000@claresports.ie
SUMMARY:Off Road Cycling - Doonbeg
DESCRIPTION:Would you like to experience an off-road cycling experience? Join us on the Doonbeg loop\, a mixture of on-road and off-road. \nJoin us for this 10km cycle. Need a bike/helmet? No problem\, we can supply them but this offer is limited. \n  \n 
URL:https://claresports.ie/event/off-road-cycling-doonbeg/
LOCATION:Doonbeg\, Clare\, Doonbeg\, Co Clare\, V15 A895\, Ireland
ATTACH;FMTTYPE=image/png:https://claresports.ie/wp-content/uploads/2023/05/Doonbeg.png
ORGANIZER;CN="Pat Sexton":MAILTO:pat@claresports.ie
END:VEVENT
END:VCALENDAR